BEGIN:VCALENDAR
VERSION:2.0
PRODID:icalendar-ruby
CALSCALE:GREGORIAN
METHOD:PUBLISH
BEGIN:VEVENT
DTSTAMP:20260420T003823Z
UID:29-632633@heartlandchurch.tithelysetup5.com
DTSTART:20261008T000000Z
DTEND:20261008T010000Z
CLASS:PUBLIC
CREATED:20260419T172534
DESCRIPTION:Yearry Small Group meets weekly on Wednesday's in Koinonia room
  downstairs at 7 PM.
LAST-MODIFIED:20260419T172534
LOCATION:Koinonia room
SUMMARY:Yearry Small Group
URL;VALUE=URI:https://heartlandchurch.us/events/yearry-small-group/2026-10-
 07
END:VEVENT
END:VCALENDAR
