BEGIN:VCALENDAR
VERSION:2.0
PRODID:icalendar-ruby
CALSCALE:GREGORIAN
METHOD:PUBLISH
BEGIN:VEVENT
DTSTAMP:20260419T220812Z
UID:29-632236@heartlandchurch.tithelysetup5.com
DTSTART:20260924T000000Z
DTEND:20260924T010000Z
CLASS:PUBLIC
CREATED:20260419T134248
DESCRIPTION:Yearry Small Group meets weekly on Wednesday's in Koinonia room
  downstairs at 7 PM.
LAST-MODIFIED:20260419T134248
LOCATION:Koinonia room
SUMMARY:Yearry Small Group
URL;VALUE=URI:https://heartlandchurch.us/events/yearry-small-group/2026-09-
 23
END:VEVENT
END:VCALENDAR
