BEGIN:VCALENDAR
VERSION:2.0
PRODID:icalendar-ruby
CALSCALE:GREGORIAN
METHOD:PUBLISH
BEGIN:VEVENT
DTSTAMP:20260420T081155Z
UID:55-633736@heartlandchurch.tithelysetup5.com
DTSTART:20261028T231500Z
DTEND:20261029T000000Z
CLASS:PUBLIC
CREATED:20260420T004231
DESCRIPTION:Praise Team Practice
LAST-MODIFIED:20260420T004231
LOCATION:Auditorium
SUMMARY:Praise Team Practice
URL;VALUE=URI:https://heartlandchurch.us/events/praise-team-practice/2026-1
 0-28
END:VEVENT
END:VCALENDAR
