BEGIN:VCALENDAR
VERSION:2.0
PRODID:icalendar-ruby
CALSCALE:GREGORIAN
METHOD:PUBLISH
BEGIN:VEVENT
DTSTAMP:20260420T030147Z
UID:43-633162@heartlandchurch.tithelysetup5.com
DTSTART:20261013T140000Z
DTEND:20261013T150000Z
CLASS:PUBLIC
CREATED:20260419T210530
DESCRIPTION:Men meet weekly on Tuesday's. On the second Tuesday of each mon
 th Men's Coffee Group have breakfast at 9am in the Fellowship Hall\, unles
 s determined to meet at a restaurant.
LAST-MODIFIED:20260419T210530
LOCATION:Fellowship Hall
SUMMARY:Men's Coffee/Breakfast Group
URL;VALUE=URI:https://heartlandchurch.us/events/mens-coffee-breakfast-group
 /2026-10-13
END:VEVENT
END:VCALENDAR
