BEGIN:VCALENDAR
VERSION:2.0
PRODID:icalendar-ruby
CALSCALE:GREGORIAN
METHOD:PUBLISH
BEGIN:VEVENT
DTSTAMP:20260420T080412Z
UID:45-633598@heartlandchurch.tithelysetup5.com
DTSTART:20261013T150000Z
DTEND:20261013T160000Z
CLASS:PUBLIC
CREATED:20260420T004230
DESCRIPTION:Currently our lesson book is "Secret Storms" by Jo Ann Mills.
LAST-MODIFIED:20260420T004230
LOCATION:Koinonia Room
SUMMARY:Ladies Bible Class
URL;VALUE=URI:https://heartlandchurch.us/events/ladies-bible-class--45/2026
 -10-13
ATTACH;FILENAME=LBC 2024.jpg;FMTTYPE=image/jpeg:https://dq5pwpg1q8ru0.cloud
 front.net/2024/11/20/18/08/17/209f6821-ef66-4706-9401-846fffb1367b/LBC%202
 024.jpg
END:VEVENT
END:VCALENDAR
