BEGIN:VCALENDAR
VERSION:2.0
PRODID:icalendar-ruby
CALSCALE:GREGORIAN
METHOD:PUBLISH
BEGIN:VEVENT
DTSTAMP:20260424T115153Z
UID:28-643318@heartlandchurch.tithelysetup5.com
DTSTART:20261105T010000Z
DTEND:20261105T020000Z
CLASS:PUBLIC
CREATED:20260424T060148
DESCRIPTION:Dolan Small Group meets weekly in Fellowship Hall upstairs at 7
  PM.
LAST-MODIFIED:20260424T060148
LOCATION:Fellowship Hall upstairs
SUMMARY:Dolan Small Group
URL;VALUE=URI:https://heartlandchurch.us/events/dolan-small-group/2026-11-0
 4
END:VEVENT
END:VCALENDAR
