BEGIN:VCALENDAR
VERSION:2.0
PRODID:icalendar-ruby
CALSCALE:GREGORIAN
METHOD:PUBLISH
BEGIN:VEVENT
DTSTAMP:20260424T102631Z
UID:28-642914@heartlandchurch.tithelysetup5.com
DTSTART:20261029T000000Z
DTEND:20261029T010000Z
CLASS:PUBLIC
CREATED:20260423T203352
DESCRIPTION:Dolan Small Group meets weekly in Fellowship Hall upstairs at 7
  PM.
LAST-MODIFIED:20260423T203352
LOCATION:Fellowship Hall upstairs
SUMMARY:Dolan Small Group
URL;VALUE=URI:https://heartlandchurch.us/events/dolan-small-group/2026-10-2
 8
END:VEVENT
END:VCALENDAR
