BEGIN:VCALENDAR
VERSION:2.0
PRODID:icalendar-ruby
CALSCALE:GREGORIAN
METHOD:PUBLISH
BEGIN:VEVENT
DTSTAMP:20260424T085513Z
UID:28-642913@heartlandchurch.tithelysetup5.com
DTSTART:20261022T000000Z
DTEND:20261022T010000Z
CLASS:PUBLIC
CREATED:20260423T203352
DESCRIPTION:Dolan Small Group meets weekly in Fellowship Hall upstairs at 7
  PM.
LAST-MODIFIED:20260423T203352
LOCATION:Fellowship Hall upstairs
SUMMARY:Dolan Small Group
URL;VALUE=URI:https://heartlandchurch.us/events/dolan-small-group/2026-10-2
 1
END:VEVENT
END:VCALENDAR
