BEGIN:VCALENDAR
VERSION:2.0
PRODID:icalendar-ruby
CALSCALE:GREGORIAN
METHOD:PUBLISH
BEGIN:VEVENT
DTSTAMP:20260421T043011Z
UID:52-636064@heartlandchurch.tithelysetup5.com
DTSTART:20261025T152000Z
DTEND:20261025T153000Z
CLASS:PUBLIC
CREATED:20260420T184840
DESCRIPTION:Backsnack filling
LAST-MODIFIED:20260420T184840
LOCATION:Koinonia Room
SUMMARY:Backsnack filling
URL;VALUE=URI:https://heartlandchurch.us/events/backsnack-filling/2026-10-2
 5
END:VEVENT
END:VCALENDAR
