BEGIN:VCALENDAR
VERSION:2.0
PRODID:icalendar-ruby
CALSCALE:GREGORIAN
METHOD:PUBLISH
BEGIN:VEVENT
DTSTAMP:20260420T230231Z
UID:52-635668@heartlandchurch.tithelysetup5.com
DTSTART:20261018T152000Z
DTEND:20261018T153000Z
CLASS:PUBLIC
CREATED:20260420T161339
DESCRIPTION:Backsnack filling
LAST-MODIFIED:20260420T161339
LOCATION:Koinonia Room
SUMMARY:Backsnack filling
URL;VALUE=URI:https://heartlandchurch.us/events/backsnack-filling/2026-10-1
 8
END:VEVENT
END:VCALENDAR
