BEGIN:VCALENDAR
VERSION:2.0
PRODID:icalendar-ruby
CALSCALE:GREGORIAN
METHOD:PUBLISH
BEGIN:VEVENT
DTSTAMP:20260419T154439Z
UID:31-631909@heartlandchurch.tithelysetup5.com
DTSTART:20261018T170000Z
DTEND:20261018T180000Z
CLASS:PUBLIC
CREATED:20260419T100053
DESCRIPTION:The Adair Small Group meets Bi-Monthly. Contact Jeff for exact 
 dates and places.
LAST-MODIFIED:20260419T100053
LOCATION:in homes
SUMMARY:Adair Small Group
URL;VALUE=URI:https://heartlandchurch.us/events/adair-small-group/2026-10-1
 8
END:VEVENT
END:VCALENDAR
